BEGIN:VCALENDAR
VERSION:2.0
PRODID:-//eventon.com NONSGML v1.0//EN
BEGIN:VEVENT
UID:69ea119606af5
DTSTAMP:20260423T123326
DTSTART:20150213T063000Z
DTEND:20150213T093000Z
TZID:UTC
LOCATION:Marriott Tulsa- South Hills Tulsa\,  OK
SUMMARY:Tulsa\,  OK
DESCRIPTION: Tulsa\,  OK\nhttps://jaredhall.com/events/tulsa-ok/
URL:https://jaredhall.com/events/tulsa-ok/
END:VEVENT
END:VCALENDAR