BEGIN:VCALENDAR
VERSION:2.0
PRODID:-//eventon.com NONSGML v1.0//EN
BEGIN:VEVENT
UID:69e99c50b4332
DTSTAMP:20260423T041304
DTSTART:20200605T170000Z
DTEND:20200605T180000Z
TZID:UTC
LOCATION:
SUMMARY:Bethlehem\,  PA - 5PM (CST)
DESCRIPTION: Bethlehem\,  PA - 5PM (CST)\nhttps://jaredhall.com/events/bethlehem-pa-5pm-cst/
URL:https://jaredhall.com/events/bethlehem-pa-5pm-cst/
END:VEVENT
END:VCALENDAR