BEGIN:VCALENDAR
VERSION:2.0
PRODID:-//eventon.com NONSGML v1.0//EN
BEGIN:VEVENT
UID:69ebca8adc4c9
DTSTAMP:20260424T195450
DTSTART:20200529T210000Z
DTEND:20200529T220000Z
TZID:UTC
LOCATION:
SUMMARY:Camas\,  WA -  9PM (CST)
DESCRIPTION: Camas\,  WA -  9PM (CST)\nhttps://jaredhall.com/events/camas-wa-9pm-cst/
URL:https://jaredhall.com/events/camas-wa-9pm-cst/
END:VEVENT
END:VCALENDAR