BEGIN:VCALENDAR
VERSION:2.0
PRODID:-//eventon.com NONSGML v1.0//EN
BEGIN:VEVENT
UID:69e9e636ab74a
DTSTAMP:20260423T092822
DTSTART:20190827
DTEND:20190827
TZID:UTC
LOCATION:
SUMMARY:Terry\,  MS
DESCRIPTION: Jared will be speaking in a few public schools.\nhttps://jaredhall.com/events/terry-ms/
URL:https://jaredhall.com/events/terry-ms/
END:VEVENT
END:VCALENDAR