BEGIN:VCALENDAR
VERSION:2.0
PRODID:-//eventon.com NONSGML v1.0//EN
BEGIN:VEVENT
UID:69e9e02b5b8c4
DTSTAMP:20260423T090235
DTSTART:20190630T180000Z
DTEND:20190630T010000Z
TZID:UTC
LOCATION:The Bridge Community Church Bristol\,  CT
SUMMARY:Bristol\,  CT
DESCRIPTION: Bristol\,  CT\nhttps://jaredhall.com/events/bristol-ct/
URL:https://jaredhall.com/events/bristol-ct/
END:VEVENT
END:VCALENDAR