BEGIN:VCALENDAR
VERSION:2.0
PRODID:-//eventon.com NONSGML v1.0//EN
BEGIN:VEVENT
UID:69e9938defad9
DTSTAMP:20260423T033541
DTSTART:20190201T083000Z
DTEND:20190201T010000Z
TZID:UTC
LOCATION:Johnson University Kissimmee\,  FL
SUMMARY:Kissimmee\,  FL
DESCRIPTION: Kissimmee\,  FL\nhttps://jaredhall.com/events/kissimmee-fl/
URL:https://jaredhall.com/events/kissimmee-fl/
END:VEVENT
END:VCALENDAR