BEGIN:VCALENDAR
VERSION:2.0
PRODID:-//eventon.com NONSGML v1.0//EN
BEGIN:VEVENT
UID:69eaee14ac6c3
DTSTAMP:20260424T041412
DTSTART:20180708T183000Z
DTEND:20180708T010000Z
TZID:UTC
LOCATION:Greenwood Amphitheatre Greenwood\,  IN
SUMMARY:Greenwood\,  IN
DESCRIPTION: Greenwood\,  IN\nhttps://jaredhall.com/events/greenwood-in/
URL:https://jaredhall.com/events/greenwood-in/
END:VEVENT
END:VCALENDAR