BEGIN:VCALENDAR
VERSION:2.0
PRODID:-//eventon.com NONSGML v1.0//EN
BEGIN:VEVENT
UID:69e9f88d7cb89
DTSTAMP:20260423T104637
DTSTART:20180210T192500Z
DTEND:20180210T010000Z
TZID:UTC
LOCATION:Riverbend Church Austin\,  TX
SUMMARY:Austin\,  TX
DESCRIPTION: Austin\,  TX\nhttps://jaredhall.com/events/austin-tx/
URL:https://jaredhall.com/events/austin-tx/
END:VEVENT
END:VCALENDAR