BEGIN:VCALENDAR
VERSION:2.0
PRODID:-//eventon.com NONSGML v1.0//EN
BEGIN:VEVENT
UID:69e90478b97b2
DTSTAMP:20260422T172512
DTSTART:20160824T190000Z
DTEND:20160824T010000Z
TZID:UTC
LOCATION:Mobberly Bapt Church Longview\,  TX
SUMMARY:Longview\,  TX
DESCRIPTION: Longview\,  TX\nhttps://jaredhall.com/events/longview-tx/
URL:https://jaredhall.com/events/longview-tx/
END:VEVENT
END:VCALENDAR