BEGIN:VCALENDAR
VERSION:2.0
PRODID:-//eventon.com NONSGML v1.0//EN
BEGIN:VEVENT
UID:69e85b9164c48
DTSTAMP:20260422T052433
DTSTART:20160416T193000Z
DTEND:20160416T010000Z
TZID:UTC
LOCATION:Wood leaf Young Life Camp Challenge\,  CA 
SUMMARY:Challenge\,  CA
DESCRIPTION: Challenge\,  CA\nhttps://jaredhall.com/events/challenge-ca/
URL:https://jaredhall.com/events/challenge-ca/
END:VEVENT
END:VCALENDAR