BEGIN:VCALENDAR
VERSION:2.0
PRODID:-//eventon.com NONSGML v1.0//EN
BEGIN:VEVENT
UID:69e9e26598e74
DTSTAMP:20260423T091205
DTSTART:20160116T190000Z
DTEND:20160116T010000Z
TZID:UTC
LOCATION:Kalahari Resorts Wisconsin Dells WI
SUMMARY:Wisconsin Dells\,  WI
DESCRIPTION: Wisconsin Dells\,  WI\nhttps://jaredhall.com/events/wisconsin-dells-wi/
URL:https://jaredhall.com/events/wisconsin-dells-wi/
END:VEVENT
END:VCALENDAR