BEGIN:VCALENDAR
VERSION:2.0
PRODID:-//eventon.com NONSGML v1.0//EN
BEGIN:VEVENT
UID:69ea790d6dc01
DTSTAMP:20260423T195453
DTSTART:20151218T181500Z
DTEND:20151218T010000Z
TZID:UTC
LOCATION:First Baptist Church 
SUMMARY:Borger\,  TX
DESCRIPTION: Borger\,  TX\nhttps://jaredhall.com/events/borger-tx/
URL:https://jaredhall.com/events/borger-tx/
END:VEVENT
END:VCALENDAR