BEGIN:VCALENDAR
VERSION:2.0
PRODID:-//eventon.com NONSGML v1.0//EN
BEGIN:VEVENT
UID:69e90f63a1294
DTSTAMP:20260422T181147
DTSTART:20150920T143000Z
DTEND:20150920T010000Z
TZID:UTC
LOCATION:Daniels Event Center Zanesville\,  OH
SUMMARY:Zanesville\,  OH
DESCRIPTION: Zanesville\,  OH\nhttps://jaredhall.com/events/zanesville-oh/
URL:https://jaredhall.com/events/zanesville-oh/
END:VEVENT
END:VCALENDAR