BEGIN:VCALENDAR
VERSION:2.0
PRODID:-//eventon.com NONSGML v1.0//EN
BEGIN:VEVENT
UID:69e92b5887622
DTSTAMP:20260422T201104
DTSTART:20151029
DTEND:20151029
TZID:UTC
LOCATION:MN Area 
SUMMARY:Willmar\,  MN area
DESCRIPTION: Jared will be speaking at two public schools during the day and performing a full show for the youth outreach event in the evening.\nhttps://jaredhall.com/events/willmar-mn-area-4/
URL:https://jaredhall.com/events/willmar-mn-area-4/
END:VEVENT
END:VCALENDAR